BEGIN:VCALENDAR
VERSION:2.0
PRODID:-//Plone.org//NONSGML plone.app.event//EN
X-WR-TIMEZONE:Europe/Berlin
BEGIN:VEVENT
SUMMARY:Webminar: Fighting Antibiotic Resistance: How to Monitor Drug-Prot
 ein Interactions in the Bacterial Periplasm.
DTSTART;TZID=Europe/Berlin:20240912T130000
DTEND;TZID=Europe/Berlin:20240912T140000
DTSTAMP:20260423T001259Z
UID:082df619da15435a8b4f0bd88e3a64c5@127.0.0.1:8080
CONTACT:https://us06web.zoom.us/webinar/register/WN_z6OlN_U9S-S2V92TlwD8Dg
CREATED:20240910T121445Z
DESCRIPTION:Alicja Razew\, Institut de Biologie Structurale\, Grenoble
LAST-MODIFIED:20240910T124445Z
LOCATION:Zoom by Alicja Razew\, Institut de Biologie Structurale\, Grenobl
 e
URL:https://www.renafobis.fr/seminaires-web-renafobis/fighting-antibiotic-
 resistance-how-to-monitor-drug-protein-interactions-in-the-bacterial-perip
 lasm
END:VEVENT
BEGIN:VTIMEZONE
TZID:Europe/Berlin
X-LIC-LOCATION:Europe/Berlin
BEGIN:DAYLIGHT
DTSTART:20240331T030000
TZNAME:CEST
TZOFFSETFROM:+0100
TZOFFSETTO:+0200
END:DAYLIGHT
END:VTIMEZONE
END:VCALENDAR
