BEGIN:VCALENDAR
VERSION:2.0
PRODID:-//Plone.org//NONSGML plone.app.event//EN
X-WR-TIMEZONE:Europe/Berlin
BEGIN:VEVENT
SUMMARY:Webminar: A dual binding mode between RSV NS1 and MED25 contribute
 s to reshaping of antiviral responses.
DTSTART;TZID=Europe/Berlin:20240912T130000
DTEND;TZID=Europe/Berlin:20240912T140000
DTSTAMP:20260422T092242Z
UID:3ab51c8b78c44517b41a5f4ee52dbe67@127.0.0.1:8080
CONTACT:https://us06web.zoom.us/webinar/register/WN_z6OlN_U9S-S2V92TlwD8Dg
CREATED:20240910T121445Z
DESCRIPTION:Christina Sizun\, Institut de Chimie et des Sciences Naturelle
 s\, Gif sur Yvette
LAST-MODIFIED:20240911T082820Z
LOCATION:Zoom by Christina Sizun\, Institut de Chimie et des Sciences Natu
 relles\, Gif sur Yvette
URL:https://www.renafobis.fr/seminaires-web-renafobis/copy_of_fighting-ant
 ibiotic-resistance-how-to-monitor-drug-protein-interactions-in-the-bacteri
 al-periplasm
END:VEVENT
BEGIN:VTIMEZONE
TZID:Europe/Berlin
X-LIC-LOCATION:Europe/Berlin
BEGIN:DAYLIGHT
DTSTART:20240331T030000
TZNAME:CEST
TZOFFSETFROM:+0100
TZOFFSETTO:+0200
END:DAYLIGHT
END:VTIMEZONE
END:VCALENDAR
