BEGIN:VCALENDAR
VERSION:2.0
PRODID:-//Plone.org//NONSGML plone.app.event//EN
X-WR-TIMEZONE:Europe/Berlin
BEGIN:VEVENT
SUMMARY:AlphaRep: a new platform dedicated to the selection of artificial 
 protein binders
DTSTART;TZID=Europe/Berlin:20240514T110000
DTEND;TZID=Europe/Berlin:20240514T120000
DTSTAMP:20260421T091018Z
UID:81c460d1e617414abee110ee3aa884fd@127.0.0.1:8080
CONTACT:https://us06web.zoom.us/webinar/register/WN_ldZ2FglTSRKoA9_XHvA9aQ
CREATED:20240502T074458Z
DESCRIPTION:Agathe Urvoas\nInstitute for Integrative Biology of the Cell (
 I2BC)
LAST-MODIFIED:20240502T074810Z
URL:https://www.renafobis.fr/seminaires-web-renafobis/alpharep-a-new-platf
 orm-dedicated-to-the-selection-of-artificial-protein-binders
END:VEVENT
BEGIN:VTIMEZONE
TZID:Europe/Berlin
X-LIC-LOCATION:Europe/Berlin
BEGIN:DAYLIGHT
DTSTART:20240331T030000
TZNAME:CEST
TZOFFSETFROM:+0100
TZOFFSETTO:+0200
END:DAYLIGHT
END:VTIMEZONE
END:VCALENDAR
