BEGIN:VCALENDAR
VERSION:2.0
PRODID:-//Plone.org//NONSGML plone.app.event//EN
X-WR-TIMEZONE:Europe/Berlin
BEGIN:VEVENT
SUMMARY:Session 2019: AILM Practical school on Advanced Isotopic Labeling 
 for NMR
DTSTART;TZID=Europe/Berlin:20190329T133000
DTEND;TZID=Europe/Berlin:20190405T133000
DTSTAMP:20260422T092009Z
UID:08509b32767746489c5da4cce82e9e50@127.0.0.1:8080
ATTENDEE;CN="16 participants";ROLE=REQ-PARTICIPANT:16 participants
CONTACT:Dr Jérôme boisbouvier\, jerome.boisbouvier@ibs.fr\, https://www.
 ailm2019.org/practical-school/
CREATED:20190110T182930Z
DESCRIPTION:The practical School is organized in Grenoble just after AIML2
 019 conference\, from March 29th to April 5th 2019. The training will be p
 rimarily based on practical sessions in which challenging biological syste
 ms are produced and labelled. Systems such as large multi-domain proteins\
 , large monomeric proteins\, oligomeric protein assemblies\, and large RNA
 s will be used as well as RNA and protein constructs brought by the partic
 ipants. Practical sessions will be linked to theoretical classes\, and dis
 cussion sessions will be organized to promote exchange between participant
 s and instructors. All labelled samples produced by the trainees will be c
 haracterized on the IBS high-field NMR platform.
LAST-MODIFIED:20240910T123455Z
LOCATION:Institut de Biologie Structurale\, Grenoble
URL:https://www.renafobis.fr/ecoles-thematiques/formation-pratique-rmn-gig
 rill/session-2019-ailm-practical-school
END:VEVENT
BEGIN:VTIMEZONE
TZID:Europe/Berlin
X-LIC-LOCATION:Europe/Berlin
BEGIN:STANDARD
DTSTART:20181028T020000
TZNAME:CET
TZOFFSETFROM:+0200
TZOFFSETTO:+0100
END:STANDARD
BEGIN:DAYLIGHT
DTSTART:20190331T030000
TZNAME:CEST
TZOFFSETFROM:+0100
TZOFFSETTO:+0200
END:DAYLIGHT
END:VTIMEZONE
END:VCALENDAR
