BEGIN:VCALENDAR
VERSION:2.0
PRODID:-//Plone.org//NONSGML plone.app.event//EN
X-WR-TIMEZONE:Europe/Berlin
BEGIN:VEVENT
SUMMARY:6ème Ecole RéNaFoBiS - Oléron 2019 - Annonce
DTSTART;TZID=Europe/Berlin:20190621T180000
DTEND;TZID=Europe/Berlin:20190628T090000
DTSTAMP:20260421T102159Z
UID:26b2c47804f34e77b7687f0c1be0702a@127.0.0.1:8080
ATTENDEE;CN="25 participants";ROLE=REQ-PARTICIPANT:25 participants
CONTACT:Jean Cavarelli\, jean.cavarelli@unistra.fr
CREATED:20180903T133530Z
DESCRIPTION:RéNaFoBIS (Réseau National de Formation en Biologie Structur
 ale Intégrative) organise sa sixième école nationale du 21 au 28 juin 2
 019 à Oléron.
LAST-MODIFIED:20240910T123451Z
LOCATION:Ile d'Oléron
URL:https://www.renafobis.fr/ecoles-thematiques/ecole-doleron/ecole-renafo
 bis-oleron-2019/copy_of_6eme-ecole-renafobis-oleron-2019
END:VEVENT
BEGIN:VTIMEZONE
TZID:Europe/Berlin
X-LIC-LOCATION:Europe/Berlin
BEGIN:DAYLIGHT
DTSTART:20190331T030000
TZNAME:CEST
TZOFFSETFROM:+0100
TZOFFSETTO:+0200
END:DAYLIGHT
END:VTIMEZONE
END:VCALENDAR
