BEGIN:VCALENDAR
VERSION:2.0
PRODID:-//Plone.org//NONSGML plone.app.event//EN
X-WR-TIMEZONE:Europe/Berlin
BEGIN:VEVENT
SUMMARY:Oléron 2016: Troisième Ecole Nationale RéNaFoBIS
DTSTART;TZID=Europe/Berlin:20160520T180000
DTEND;TZID=Europe/Berlin:20160527T090000
DTSTAMP:20260423T001628Z
UID:a3bda8cd18eb4b87bca09c90c2a81828@127.0.0.1:8080
ATTENDEE;CN="25 participants";ROLE=REQ-PARTICIPANT:25 participants
CONTACT:Jean Cavarelli\, contact@renafobis.fr
CREATED:20160601T112557Z
DESCRIPTION:Programme et supports de cours
LAST-MODIFIED:20240910T123454Z
LOCATION:Ile d'Oléron
URL:https://www.renafobis.fr/ecoles-thematiques/ecole-doleron/ecole-renafo
 bis-oleron-2016/copy_of_ile-doleron-troisieme-ecole-nationale-renafobis
END:VEVENT
BEGIN:VTIMEZONE
TZID:Europe/Berlin
X-LIC-LOCATION:Europe/Berlin
BEGIN:DAYLIGHT
DTSTART:20160327T030000
TZNAME:CEST
TZOFFSETFROM:+0100
TZOFFSETTO:+0200
END:DAYLIGHT
END:VTIMEZONE
END:VCALENDAR
