BEGIN:VCALENDAR
VERSION:2.0
PRODID:-//Plone.org//NONSGML plone.app.event//EN
X-WR-TIMEZONE:Europe/Berlin
BEGIN:VEVENT
SUMMARY:ECM34: 34th European Crystallographic Meeting
DTSTART;TZID=Europe/Berlin:20240826T090000
DTEND;TZID=Europe/Berlin:20240830T170000
DTSTAMP:20260421T083911Z
UID:4de786e60e7c48739d169a8379d7a62f@127.0.0.1:8080
CONTACT:https://www.ecm34.org/
CREATED:20240502T075315Z
LAST-MODIFIED:20240502T075324Z
LOCATION:Padova (Padoue)\, Italie
URL:https://www.renafobis.fr/autres-formations-et-congres/ecm34-34th-europ
 ean-crystallographic-meeting
END:VEVENT
BEGIN:VTIMEZONE
TZID:Europe/Berlin
X-LIC-LOCATION:Europe/Berlin
BEGIN:DAYLIGHT
DTSTART:20240331T030000
TZNAME:CEST
TZOFFSETFROM:+0100
TZOFFSETTO:+0200
END:DAYLIGHT
END:VTIMEZONE
END:VCALENDAR
